BEGIN:VCALENDAR
VERSION:2.0
PRODID:-//South House - ECPv6.15.20//NONSGML v1.0//EN
CALSCALE:GREGORIAN
METHOD:PUBLISH
X-ORIGINAL-URL:https://southhousejc.com
X-WR-CALDESC:Events for South House
REFRESH-INTERVAL;VALUE=DURATION:PT1H
X-Robots-Tag:noindex
X-PUBLISHED-TTL:PT1H
BEGIN:VTIMEZONE
TZID:UTC
BEGIN:STANDARD
TZOFFSETFROM:+0000
TZOFFSETTO:+0000
TZNAME:UTC
DTSTART:20250101T000000
END:STANDARD
END:VTIMEZONE
BEGIN:VEVENT
DTSTART;VALUE=DATE:20260302
DTEND;VALUE=DATE:20260303
DTSTAMP:20260423T164015
CREATED:20250205T185630Z
LAST-MODIFIED:20250428T223259Z
UID:10000705-1772409600-1772495999@southhousejc.com
SUMMARY:All Day Happy Hour
DESCRIPTION:
URL:https://southhousejc.com/event/all-day-happy-hour-12/2026-03-02/
END:VEVENT
BEGIN:VEVENT
DTSTART;VALUE=DATE:20260303
DTEND;VALUE=DATE:20260304
DTSTAMP:20260423T164015
CREATED:20241224T143843Z
LAST-MODIFIED:20250428T223209Z
UID:10000445-1772496000-1772582399@southhousejc.com
SUMMARY:Taco Tuesday
DESCRIPTION:
URL:https://southhousejc.com/event/taco-tuesday-5/2026-03-03/
ATTACH;FMTTYPE=image/png:https://southhousejc.com/wp-content/uploads/2024/12/South-House-Taco-Tuesdays-Story.png
END:VEVENT
BEGIN:VEVENT
DTSTART;VALUE=DATE:20260303
DTEND;VALUE=DATE:20260304
DTSTAMP:20260423T164015
CREATED:20241224T152202Z
LAST-MODIFIED:20250428T223047Z
UID:10000185-1772496000-1772582399@southhousejc.com
SUMMARY:Trivia
DESCRIPTION:
URL:https://southhousejc.com/event/trivia-6/2026-03-03/
ATTACH;FMTTYPE=image/png:https://southhousejc.com/wp-content/uploads/2024/11/Screenshot-2024-11-22-at-7.10.16-PM.png
END:VEVENT
BEGIN:VEVENT
DTSTART;VALUE=DATE:20260309
DTEND;VALUE=DATE:20260310
DTSTAMP:20260423T164015
CREATED:20250205T185630Z
LAST-MODIFIED:20250428T223259Z
UID:10000706-1773014400-1773100799@southhousejc.com
SUMMARY:All Day Happy Hour
DESCRIPTION:
URL:https://southhousejc.com/event/all-day-happy-hour-12/2026-03-09/
END:VEVENT
BEGIN:VEVENT
DTSTART;VALUE=DATE:20260310
DTEND;VALUE=DATE:20260311
DTSTAMP:20260423T164015
CREATED:20241224T143843Z
LAST-MODIFIED:20250428T223209Z
UID:10000446-1773100800-1773187199@southhousejc.com
SUMMARY:Taco Tuesday
DESCRIPTION:
URL:https://southhousejc.com/event/taco-tuesday-5/2026-03-10/
ATTACH;FMTTYPE=image/png:https://southhousejc.com/wp-content/uploads/2024/12/South-House-Taco-Tuesdays-Story.png
END:VEVENT
BEGIN:VEVENT
DTSTART;VALUE=DATE:20260310
DTEND;VALUE=DATE:20260311
DTSTAMP:20260423T164015
CREATED:20241224T152202Z
LAST-MODIFIED:20250428T223047Z
UID:10000186-1773100800-1773187199@southhousejc.com
SUMMARY:Trivia
DESCRIPTION:
URL:https://southhousejc.com/event/trivia-6/2026-03-10/
ATTACH;FMTTYPE=image/png:https://southhousejc.com/wp-content/uploads/2024/11/Screenshot-2024-11-22-at-7.10.16-PM.png
END:VEVENT
BEGIN:VEVENT
DTSTART;VALUE=DATE:20260316
DTEND;VALUE=DATE:20260317
DTSTAMP:20260423T164015
CREATED:20250205T185630Z
LAST-MODIFIED:20250428T223259Z
UID:10000707-1773619200-1773705599@southhousejc.com
SUMMARY:All Day Happy Hour
DESCRIPTION:
URL:https://southhousejc.com/event/all-day-happy-hour-12/2026-03-16/
END:VEVENT
BEGIN:VEVENT
DTSTART;VALUE=DATE:20260317
DTEND;VALUE=DATE:20260318
DTSTAMP:20260423T164015
CREATED:20241224T143843Z
LAST-MODIFIED:20250428T223209Z
UID:10000447-1773705600-1773791999@southhousejc.com
SUMMARY:Taco Tuesday
DESCRIPTION:
URL:https://southhousejc.com/event/taco-tuesday-5/2026-03-17/
ATTACH;FMTTYPE=image/png:https://southhousejc.com/wp-content/uploads/2024/12/South-House-Taco-Tuesdays-Story.png
END:VEVENT
BEGIN:VEVENT
DTSTART;VALUE=DATE:20260317
DTEND;VALUE=DATE:20260318
DTSTAMP:20260423T164015
CREATED:20241224T152202Z
LAST-MODIFIED:20250428T223047Z
UID:10000187-1773705600-1773791999@southhousejc.com
SUMMARY:Trivia
DESCRIPTION:
URL:https://southhousejc.com/event/trivia-6/2026-03-17/
ATTACH;FMTTYPE=image/png:https://southhousejc.com/wp-content/uploads/2024/11/Screenshot-2024-11-22-at-7.10.16-PM.png
END:VEVENT
BEGIN:VEVENT
DTSTART;VALUE=DATE:20260319
DTEND;VALUE=DATE:20260320
DTSTAMP:20260423T164015
CREATED:20250408T210158Z
LAST-MODIFIED:20250428T223604Z
UID:10001454-1773878400-1773964799@southhousejc.com
SUMMARY:Just A Gay A** Party
DESCRIPTION:
URL:https://southhousejc.com/event/just-a-gay-a-party/2026-03-19/
ATTACH;FMTTYPE=image/png:https://southhousejc.com/wp-content/uploads/2025/02/GAY-ASS-PARTY-Real-Estate-Flyer.zip-1.png
END:VEVENT
BEGIN:VEVENT
DTSTART;VALUE=DATE:20260323
DTEND;VALUE=DATE:20260324
DTSTAMP:20260423T164015
CREATED:20250205T185630Z
LAST-MODIFIED:20250428T223259Z
UID:10000708-1774224000-1774310399@southhousejc.com
SUMMARY:All Day Happy Hour
DESCRIPTION:
URL:https://southhousejc.com/event/all-day-happy-hour-12/2026-03-23/
END:VEVENT
BEGIN:VEVENT
DTSTART;VALUE=DATE:20260324
DTEND;VALUE=DATE:20260325
DTSTAMP:20260423T164015
CREATED:20241224T143843Z
LAST-MODIFIED:20250428T223209Z
UID:10000448-1774310400-1774396799@southhousejc.com
SUMMARY:Taco Tuesday
DESCRIPTION:
URL:https://southhousejc.com/event/taco-tuesday-5/2026-03-24/
ATTACH;FMTTYPE=image/png:https://southhousejc.com/wp-content/uploads/2024/12/South-House-Taco-Tuesdays-Story.png
END:VEVENT
BEGIN:VEVENT
DTSTART;VALUE=DATE:20260324
DTEND;VALUE=DATE:20260325
DTSTAMP:20260423T164015
CREATED:20241224T152202Z
LAST-MODIFIED:20250428T223047Z
UID:10000188-1774310400-1774396799@southhousejc.com
SUMMARY:Trivia
DESCRIPTION:
URL:https://southhousejc.com/event/trivia-6/2026-03-24/
ATTACH;FMTTYPE=image/png:https://southhousejc.com/wp-content/uploads/2024/11/Screenshot-2024-11-22-at-7.10.16-PM.png
END:VEVENT
BEGIN:VEVENT
DTSTART;VALUE=DATE:20260330
DTEND;VALUE=DATE:20260331
DTSTAMP:20260423T164015
CREATED:20250205T185630Z
LAST-MODIFIED:20250428T223259Z
UID:10000709-1774828800-1774915199@southhousejc.com
SUMMARY:All Day Happy Hour
DESCRIPTION:
URL:https://southhousejc.com/event/all-day-happy-hour-12/2026-03-30/
END:VEVENT
BEGIN:VEVENT
DTSTART;VALUE=DATE:20260331
DTEND;VALUE=DATE:20260401
DTSTAMP:20260423T164015
CREATED:20241224T143843Z
LAST-MODIFIED:20250428T223209Z
UID:10000449-1774915200-1775001599@southhousejc.com
SUMMARY:Taco Tuesday
DESCRIPTION:
URL:https://southhousejc.com/event/taco-tuesday-5/2026-03-31/
ATTACH;FMTTYPE=image/png:https://southhousejc.com/wp-content/uploads/2024/12/South-House-Taco-Tuesdays-Story.png
END:VEVENT
BEGIN:VEVENT
DTSTART;VALUE=DATE:20260331
DTEND;VALUE=DATE:20260401
DTSTAMP:20260423T164015
CREATED:20241224T152202Z
LAST-MODIFIED:20250428T223047Z
UID:10000189-1774915200-1775001599@southhousejc.com
SUMMARY:Trivia
DESCRIPTION:
URL:https://southhousejc.com/event/trivia-6/2026-03-31/
ATTACH;FMTTYPE=image/png:https://southhousejc.com/wp-content/uploads/2024/11/Screenshot-2024-11-22-at-7.10.16-PM.png
END:VEVENT
END:VCALENDAR